BEGIN:VCALENDAR
VERSION:2.0
PRODID:-//Partnerschaftsverein Borken-Méru - ECPv6.15.20//NONSGML v1.0//EN
CALSCALE:GREGORIAN
METHOD:PUBLISH
X-ORIGINAL-URL:https://borken-meru.de
X-WR-CALDESC:Veranstaltungen für Partnerschaftsverein Borken-Méru
REFRESH-INTERVAL;VALUE=DURATION:PT1H
X-Robots-Tag:noindex
X-PUBLISHED-TTL:PT1H
BEGIN:VTIMEZONE
TZID:Europe/Berlin
BEGIN:DAYLIGHT
TZOFFSETFROM:+0100
TZOFFSETTO:+0200
TZNAME:CEST
DTSTART:20240331T010000
END:DAYLIGHT
BEGIN:STANDARD
TZOFFSETFROM:+0200
TZOFFSETTO:+0100
TZNAME:CET
DTSTART:20241027T010000
END:STANDARD
BEGIN:DAYLIGHT
TZOFFSETFROM:+0100
TZOFFSETTO:+0200
TZNAME:CEST
DTSTART:20250330T010000
END:DAYLIGHT
BEGIN:STANDARD
TZOFFSETFROM:+0200
TZOFFSETTO:+0100
TZNAME:CET
DTSTART:20251026T010000
END:STANDARD
BEGIN:DAYLIGHT
TZOFFSETFROM:+0100
TZOFFSETTO:+0200
TZNAME:CEST
DTSTART:20260329T010000
END:DAYLIGHT
BEGIN:STANDARD
TZOFFSETFROM:+0200
TZOFFSETTO:+0100
TZNAME:CET
DTSTART:20261025T010000
END:STANDARD
END:VTIMEZONE
BEGIN:VEVENT
DTSTART;TZID=Europe/Berlin:20250911T180000
DTEND;TZID=Europe/Berlin:20250914T180000
DTSTAMP:20260421T193649
CREATED:20241216T201508Z
LAST-MODIFIED:20241216T201508Z
UID:836-1757613600-1757872800@borken-meru.de
SUMMARY:Stadtparkfest in Borken
DESCRIPTION:
URL:https://borken-meru.de/event/stadtparkfest-in-borken
END:VEVENT
BEGIN:VEVENT
DTSTART;VALUE=DATE:20250928
DTEND;VALUE=DATE:20250929
DTSTAMP:20260421T193649
CREATED:20241216T201508Z
LAST-MODIFIED:20241216T201735Z
UID:838-1759017600-1759103999@borken-meru.de
SUMMARY:Wecke und Wurstmarkt
DESCRIPTION:
URL:https://borken-meru.de/event/wecke-und-wurstmarkt
END:VEVENT
END:VCALENDAR